Workbook
Name _Operacion: [1]Validación!#REF!
Name Almacenamiento: [1]Validación!$I$2:$I$5
Name Ambiente: [2]Lista!$D$2:$D$3
Name B24centro: '[3]F-SM-15'!#REF!
Name Causa: [2]Lista!$B$2:$B$10
Name Criticidad: [4]Validacion!$K$2:$K$4
Name Equipo: #REF!
Name Medio: [1]Validación!$K$2:$K$7
Name no: #REF!
Name Oerador: #REF!
Name Oeradores: #REF!
Name Operacion: [1]Validación!$A$2:$A$6
Name Operador: [5]Validacion!$A$1:$A$8
Name Operadores: #REF!
Name Responsable: [2]Lista!$C$2:$C$12

Sheet CCE-GTI-FM-16
A1: Código : | B1: CCE-GTI-FM-16 | D1: FORMATO SOLICITUD DE CAMBIOS EN APLICACIONES
A2: Versión: | B2: 3
A3: Fecha: | B3: 45386
A4: INFORMACIÓN DEL CAMBIO
A5: Fecha de la Solicitud (dd/mm/año) | C5: N° del cambio | E5: Nombre del cambio: | H5: Fecha de implementación | N5: Tipo de cambio | P5: Ambiente del despliegue
A6: Área que registra el cambio | E6: Aplicación/servicio sujeto del cambio | I6: Incidentes asociados al cambio que serán solucionados | O6: Nombre del proveedor que ejecuta el cambio o partida en el mismo
A7: Justificación y detalle del Cambio
A8: INFORMACIÓN DEL RESPONSABLE DEL CAMBIO
A9: Nombre completo | G9: Cargo | J9: Correo electrónico | O9: Teléfono de contacto
A10: REQUISITOS MÍNIMOS PARA EJECUCIÓN DEL CAMBIO
A11: De las siguientes opciones marque con una X en la columna "Ejecución" las precondiciones que se deben cumplir para poder ejecutar el cambio (Todos los prerrequisitos que en la opción ¿aplica para el cambio? Estén marcadas como "Sí" deben ejecutarse para implementar el cambio en producción.
A12: Prerrequisito | I12: ¿Aplica para el cambio | K12: Ejecución | M12: Observaciones
A13: Se requiere apoyo del equipo técnico y desarrollo
A14: Presentación de Kickoff del requerimiento o proyecto.
A15: Capacitación a interesados
A16: Planeación y ejecución de pruebas
A17: Elaboración de infografía y/o manual de usuario
A18: Programación y organización para toma de backups de la base de datos
A19: Ambientes de pruebas creados
A20: Actualización árbol de categorización y matriz de escalamiento
A21: Cumplimiento del cambio a nivel de seguridad para el paso a producción
A22: Requiere actualización de certificados ¿Cuáles?
A23: Flujo del trabajo operativo (Gestión de administradores)
A24: Diagrama de arquitectura
... A26: ANÁLISIS DE IMPACTO
A27: Genera indisponibilidad usuarios externos e internos? | D27: Tiempo de indisponibilidad | G27: ¿Cómo se comunicó a los usuarios la ejecución del despliegue? | M27: Evidencia de comunicación a los usuarios (Si aplica)
A28: Riesgos asociados al cambio y acción de mitigación | C28: Descripción del riesgo | F28: Aplica para el cambio | G28: Acción a implementar | L28: Evidencia de la acción implementada
C29: Pérdida de datos a raíz del despliegue
C30: Defectos sin solución en el despliegue
C31: No lograr el restablecimiento del servidor | D31: No lograr el restablecimiento del servidor | E31: No lograr el restablecimiento del servidor
C32: Disponibilidad de recurso humano
C33: Otro ¿Cuál? =
A34: EQUIPO DE TRABAJO
A35: Responsable de ejecutar el cambio | C35: Nombre responsable del Cambio infraestructura (CCE) | I35: Teléfono de contacto | J35: =VLOOKUP(E35,'Listas desplegables'!A90:D111,3,0) -> #N/A | L35: Correo electrónico | N35: =VLOOKUP(E35,'Listas desplegables'!A90:D111,4,0) -> #N/A
C36: Nombre responsable del Cambio base de datos (CCE) | I36: Teléfono de contacto | J36: =VLOOKUP(E36,'Listas desplegables'!A90:D111,3,0) -> #N/A | L36: Correo electrónico | N36: =VLOOKUP(E36,'Listas desplegables'!A90:D111,4,0) -> #N/A
C37: Nombre responsable del Cambio desarrollo (CCE) | I37: Teléfono de contacto | J37: =VLOOKUP(E37,'Listas desplegables'!A90:D111,3,0) -> #N/A | L37: Correo electrónico | N37: =VLOOKUP(E37,'Listas desplegables'!A90:D111,4,0) -> #N/A
C38: Nombre Responsable de ejecutar pruebas | I38: Teléfono de contacto | J38: =VLOOKUP(E38,'Listas desplegables'!A91:D112,3,0) -> #N/A | L38: Correo electrónico | N38: =VLOOKUP(E38,'Listas desplegables'!A90:D111,4,0) -> #N/A
A39: PLAN DE TRABAJO
A40: Actividad | F40: Duración | H40: Tiempo de Ejecución (DD/MM/YYYY hh:mm) | L40: Responsable | N40: Evidencia de la ejecución.
F41: Horas | G41: Minutos | H41: Inicio | J41: Fin
...

Sheet Control de cambios 
A2: CONTROL DE CAMBIOS DE DOCUMENTO
A3: VERSIÓN VIGENTE DEL DOCUMENTO / FORMATO | D3: 44176
A4: VERSIÓN | B4: FECHA | C4: DESCRIPCIÓN DE AJUSTES | D4: ELABORÓ | E4: REVISÓ | F4: APROBÓ
A5: 1 | B5: 44176 | C5: Estandarización del formato | D5: Andrea Silva Contratista | E5: Jenny Pinzón Gestor código T1 grado 15 | F5: Rigoberto Rodríguez Subdirector de IDT
A6: 2 | B6: 44407 | C6: Se incluyen nuevos campos: sección análisis de impacto, aprobación, riesgos, responsable del roll back, información del cambio | D6: Andrea Silva Contratista | E6: Jenny Pinzón Gestor código T1 grado 15 | F6: Rigoberto Rodríguez Subdirector de IDT

Sheet Listas desplegables
B3: AREA
B4: Sistemas de información
B5: Infraestructura
B6: Seguridad de la información
B7: Datos
B8: Planeación
B9: Operaciones
B11: Aplicación/servicio sujeto del cambio
B12: SECOP I
B13: SECOP II
B14: TVEC
B15: Portal Web
... B88: No
A90: Nombre | B90: área | C90: Teléfono | D90: Correo
A91: Manuel Guardiola | B91: Sistemas de información | C91: 3045984468 | D91: manuel.guardiola@colombiacompra.gov.co
A92: Esteban Restrepo | B92: Sistemas de información | C92: 3155178405 | D92: jhonatan.restrepo@colombiacompra.gov.co
A93: Efrain Sampedro | B93: Sistemas de información | C93: 3118130760 | D93: efrain.sampedro@colombiacompra.gov.co
A94: Christian Ostos | B94: Sistemas de información | C94: 3015348391 | D94: christian.ostos@colombiacompra.gov.co
A95: Fabian Hernandez | B95: Sistemas de información | D95: fabian.hernandez@colombiacompra.gov.co
A96: VORTAL | B96: Proveedor externo | C96: Skype | D96: ana.morais@vortal.biz
A97: COUPA | B97: Proveedor externo | C97: (+1) (408) 2194841 | D97: mauricio.marroquin@coupa.com
A98: Jose Nuñez | B98: Sistemas de información | C98: 3023396849 | D98: jose.nunez@colombiacompra.gov.co
A99: Diego Ariza | B99: Sistemas de información | C99: 3132073658 | D99: diego.ariza@colombiacompra.gov.co
A100: Hernan Castilla | B100: Sistemas de información | C100: 3135987361 | D100: hernan.castilla@colombiacompra.gov.co
A101: N/A | B101: N/A | C101: N/A | D101: N/A
A102: Ivan Pinto | B102: Sistemas de información | C102: 3125588846 | D102: ivan.pinto@colombiacompra.gov.co
A103: N/A | B103: N/A | C103: N/A | D103: N/A
A104: Diego Santana | B104: Sistemas de información | C104: 3154516433 | D104: diego.santana@colombiacompra.gov.co
A105: Oscar Rojas | B105: Sistemas de información | C105: 3108807529 | D105: oscar.rojas@colombiacompra.gov.co
A106: N/A | B106: N/A | C106: N/A | D106: N/A
A107: Hernando Gélvez Díaz | B107: Infraestructura | C107: 3002852568 | D107: hernando.gelvez@colombiacompra.gov.co
A108: Rodrigo Baez | B108: Infraestructura | C108: 3158623529 | D108: rodrigo.baez@colombiacompra.gov.co
A109: Edgar Junior Castro Escorcia | B109: Infraestructura | C109: 3183270856 | D109: edgar.castro@colombiacompra.gov.co
A110: Claudia Andrea Velásquez | B110: Infraestructura | D110: claudia.velasquez@colombiacompra.gov.co
A111: N/A | B111: N/A | C111: N/A | D111: N/A
A119: X
A120: N/A
